BEGIN:VCALENDAR
VERSION:2.0
PRODID:-//OQSG by Pinion - ECPv6.15.16//NONSGML v1.0//EN
CALSCALE:GREGORIAN
METHOD:PUBLISH
X-ORIGINAL-URL:https://oqsg.com
X-WR-CALDESC:Events for OQSG by Pinion
REFRESH-INTERVAL;VALUE=DURATION:PT1H
X-Robots-Tag:noindex
X-PUBLISHED-TTL:PT1H
BEGIN:VTIMEZONE
TZID:America/Chicago
BEGIN:DAYLIGHT
TZOFFSETFROM:-0600
TZOFFSETTO:-0500
TZNAME:CDT
DTSTART:20240310T080000
END:DAYLIGHT
BEGIN:STANDARD
TZOFFSETFROM:-0500
TZOFFSETTO:-0600
TZNAME:CST
DTSTART:20241103T070000
END:STANDARD
BEGIN:DAYLIGHT
TZOFFSETFROM:-0600
TZOFFSETTO:-0500
TZNAME:CDT
DTSTART:20250309T080000
END:DAYLIGHT
BEGIN:STANDARD
TZOFFSETFROM:-0500
TZOFFSETTO:-0600
TZNAME:CST
DTSTART:20251102T070000
END:STANDARD
BEGIN:DAYLIGHT
TZOFFSETFROM:-0600
TZOFFSETTO:-0500
TZNAME:CDT
DTSTART:20260308T080000
END:DAYLIGHT
BEGIN:STANDARD
TZOFFSETFROM:-0500
TZOFFSETTO:-0600
TZNAME:CST
DTSTART:20261101T070000
END:STANDARD
END:VTIMEZONE
BEGIN:VEVENT
DTSTART;TZID=America/Chicago:20251120T130000
DTEND;TZID=America/Chicago:20251120T150000
DTSTAMP:20260420T163331
CREATED:20251118T205801Z
LAST-MODIFIED:20251118T205844Z
UID:7894-1763643600-1763650800@oqsg.com
SUMMARY:Remote 5Keys Engage Platform Administrator Training for Talos Production Inc.
DESCRIPTION:The 5Keys Engage platform Administrator Training Class is a valuable opportunity for administrators to master the essentials of managing their company’s 5Keys Engage account. This engaging webinar\, led by a 5Keys Engage Compliance Specialist\, spans 1 to 2 hours and offers a comprehensive overview of the platform’s key features. Participants will learn how to add and manage users\, create and modify groups\, make assignments\, and run both standard and custom reports. The session also covers setting up personalized dashboards\, customizing Pinion Courier email options\, and creating company files. Additionally\, the training incorporates customer specific guidance to ensure that administrators can tailor their LMS setup to their organization’s unique needs.
URL:https://oqsg.com/event/remote-5keys-engage-platform-administrator-training-for-talos-production-inc/
CATEGORIES:Admin Training,Training
END:VEVENT
BEGIN:VEVENT
DTSTART;TZID=America/Chicago:20251124T130000
DTEND;TZID=America/Chicago:20251124T150000
DTSTAMP:20260420T163331
CREATED:20251120T171026Z
LAST-MODIFIED:20251124T142519Z
UID:7898-1763989200-1763996400@oqsg.com
SUMMARY:Remote 5Keys Engage Platform Administrator Training for Western Midstream
DESCRIPTION:The 5Keys Engage platform Administrator Training Class is a valuable opportunity for administrators to master the essentials of managing their company’s 5Keys Engage account. This engaging webinar\, led by an OQSG Compliance Specialist\, spans 1 to 2 hours and offers a comprehensive overview of the platform’s key features. Participants will learn how to add and manage users\, create and modify groups\, make assignments\, and run both standard and custom reports. The session also covers setting up personalized dashboards\, customizing Courier email options\, and creating company files. Additionally\, the training incorporates customer specific guidance to ensure that administrators can tailor their LMS setup to their organization’s unique needs.
URL:https://oqsg.com/event/remote-5keys-engage-platform-administrator-training-for-western-midstream/
CATEGORIES:Admin Training,Training
END:VEVENT
END:VCALENDAR